BEGIN:VCALENDAR
VERSION:2.0
PRODID:-//Trail Horse Challenge - ECPv6.15.3//NONSGML v1.0//EN
CALSCALE:GREGORIAN
METHOD:PUBLISH
X-WR-CALNAME:Trail Horse Challenge
X-ORIGINAL-URL:https://trailhorsechallenge.ca
X-WR-CALDESC:Events for Trail Horse Challenge
REFRESH-INTERVAL;VALUE=DURATION:PT1H
X-Robots-Tag:noindex
X-PUBLISHED-TTL:PT1H
BEGIN:VTIMEZONE
TZID:America/Regina
BEGIN:STANDARD
TZOFFSETFROM:-0600
TZOFFSETTO:-0600
TZNAME:CST
DTSTART:20170101T000000
END:STANDARD
END:VTIMEZONE
BEGIN:VEVENT
DTSTART;TZID=America/Regina:20180120T130000
DTEND;TZID=America/Regina:20180120T160000
DTSTAMP:20260423T143649
CREATED:20180108T153447Z
LAST-MODIFIED:20180108T154006Z
UID:731-1516453200-1516464000@trailhorsechallenge.ca
SUMMARY:Obstacle Play Day
DESCRIPTION:Come out and have some fun with your horse in a fun environment! Obstacle course changes every play day so it’s always a challenge! Whether you’re on the ground or in saddle\, there’s something for everyone. This sport is for all ages and all levels of rider. \nMEMBERSHIP IS NOT REQUIRED! NON MEMBERS WELCOME!!\n$20 for ccc members (get your membership at CanadianCowboyChallenge.com)\n$25 for non members \nDIRECTIONS FROM SASKATOON: \nGo straight out 22nd street west\, keep on highway 14 for 18 km. Turn right at the Sandy Ridge gas station (RR 3081). First on the right after the train tracks.
URL:https://trailhorsechallenge.ca/event/obstacle-play-day/
LOCATION:Asquith Indoor Riding Arena\, Asquith\, Saskatchewan\, Canada
CATEGORIES:Canadian Cowboy Challenge,Fun Days
ATTACH;FMTTYPE=image/jpeg:https://trailhorsechallenge.ca/wp-content/uploads/2018/01/horse-practice-fun-play-day-01_800x533.jpg
END:VEVENT
BEGIN:VEVENT
DTSTART;VALUE=DATE:20171014
DTEND;VALUE=DATE:20171017
DTSTAMP:20260423T143649
CREATED:20170509T062821Z
LAST-MODIFIED:20170509T062821Z
UID:577-1507939200-1508198399@trailhorsechallenge.ca
SUMMARY:Glenn Stewart Horsemanship Clinic
DESCRIPTION:Glenn Stewart is coming back to Saskatoon for a clinic! October 14\, 15\, 16 at Prairieland Park\, mornings will be a Stage 1/2 clinic\, afternoons a workshop. $800 plus GST for 3 full days\, or 500 plus GST for either the morning or afternoon sessions\, all three days. This includes your stall and one free spectator ticket! I only have one afternoon spot left\, waiting list deposits are being accepted and will be refunded if you don’t get a spot in the clinics. Spectators are welcome\, $30 per day. Take your horsemanship further than you ever imagined!
URL:https://trailhorsechallenge.ca/event/glenn-stewart-horsemanship-clinic/
LOCATION:Prairieland Park\, 503 Ruth Street West\, Saskatoon\, Saskatchewan\, S7K 4E4\, Canada
CATEGORIES:Clinics
ATTACH;FMTTYPE=image/jpeg:https://trailhorsechallenge.ca/wp-content/uploads/2017/05/glen-stewart-clinician-01.jpg
END:VEVENT
BEGIN:VEVENT
DTSTART;VALUE=DATE:20170721
DTEND;VALUE=DATE:20170724
DTSTAMP:20260423T143649
CREATED:20170509T061859Z
LAST-MODIFIED:20170509T062058Z
UID:573-1500595200-1500854399@trailhorsechallenge.ca
SUMMARY:Horsemanship Clinic
DESCRIPTION:John & Jamie Tilley are coming back to Meadow Lake next year for our annual Horsemanship Clinic! \nThe clinic cost is the same as 2016: $350 + GST for one class\, or $650 + GST for both classes. $250 non-refundable deposit is required to hold your spot.  \nThe Clinic will be held at Alicia & Scott Adamson’s again. \nWe had a great clinic in July 2016 and worked on everything….. from lightness on the halter\, to backing up hills\, to lead changes! Participants will be grouped loosely by ability. Returning students are often grouped together\, and if ready will move on to more advanced material and less ground work. This truly is a great clinic for all levels of people.Anyone and everyone can benefit from John’s knowledge and understanding of Horses.\nRenee – 306-236-4895
URL:https://trailhorsechallenge.ca/event/horsemanship-clinic/
LOCATION:Meadow Lake\, Meadow Lake\, Saskatchewan\, Canada
CATEGORIES:Clinics
ATTACH;FMTTYPE=image/jpeg:https://trailhorsechallenge.ca/wp-content/uploads/2017/05/tilleys-horsemanship-clinic-meadow-lake-sk.jpg
END:VEVENT
BEGIN:VEVENT
DTSTART;VALUE=DATE:20170716
DTEND;VALUE=DATE:20170717
DTSTAMP:20260423T143649
CREATED:20170509T035056Z
LAST-MODIFIED:20170509T042047Z
UID:556-1500163200-1500249599@trailhorsechallenge.ca
SUMMARY:Priddy Farm Hunter Pace and Trail Ride
DESCRIPTION:Ride along a marked trail\, in English or Western gear\, in small teams of two to four riders.  Friends of varying skill levels and ages are able to ride together – non-jumpers and jumpers alike. \nAll jumps and trail obstacles are optional.  Ribbons to fourth place for teams for teams closest to the mystery time.  Count the “foxes” on route and enter a draw for prizes. \nRegistration opens at 8:30 am.  Team start times begin at 9:am until noon.  SHF or equivalent provincial membership\, waiver and negative Coggins test required to ride.
URL:https://trailhorsechallenge.ca/event/priddy-farm-hunter-pace-trail-ride/
LOCATION:Priddy Farm\, Saskatoon\, Saskatchewan\, Canada
CATEGORIES:Trail Rides
ATTACH;FMTTYPE=image/jpeg:https://trailhorsechallenge.ca/wp-content/uploads/2017/05/2017-priddy-farm-hunter-trail-events.jpg
END:VEVENT
BEGIN:VEVENT
DTSTART;VALUE=DATE:20170716
DTEND;VALUE=DATE:20170723
DTSTAMP:20260423T143649
CREATED:20170505T144637Z
LAST-MODIFIED:20170505T150401Z
UID:483-1500163200-1500767999@trailhorsechallenge.ca
SUMMARY:Telemiracle Trail Ride
DESCRIPTION:THE 22ND ANNUAL TELEMIRACLE WEEK-LONG TRAIL RIDE!\nJULY 16-22 2017 \nMake sure you check out our Telemiracle Gymkhana\, Dine & Dance on July 15th: https://www.facebook.com/events/1433745593350910/ \nCamp is in the same spot all week\nApprox 20 kms North of Duck Lake – Signs will be posted!\nWater on hand\nBring your tent or camper/feed and pen.\nWe ride out when everyone is ready – agreed on the night before around the campfire.\nWe will ride back for lunch. After everyone has finished lunch and ready to go we shall head out again!\nLots of great trails!! – Sandy & grassy\nBeing a Telemiracle fundraiser\, we ask everyone to pledge at least $50.00/person\nNEW THIS YEAR!!\nWe are having a prize offered to the person who can collect the most in pledges. Cowtown has donated a $200 gift certificate that will go to the person who collects the most.\nPledge sheets are available upon request and any pledges over $20.00 will be given a receipt directly from Telemiracle. \nIf you have any further questions please contact:\nRay @ 306-230-1781\nor Stephanie @ 306-230-4464
URL:https://trailhorsechallenge.ca/event/telemiracle-trail-ride/
LOCATION:Duck Lake / Nisbet Forest\, Canada
CATEGORIES:Fundraisers,Trail Rides
ATTACH;FMTTYPE=image/jpeg:https://trailhorsechallenge.ca/wp-content/uploads/2017/05/trail-ride-01_620x800.jpg
END:VEVENT
BEGIN:VEVENT
DTSTART;VALUE=DATE:20170715
DTEND;VALUE=DATE:20170716
DTSTAMP:20260423T143649
CREATED:20170509T060742Z
LAST-MODIFIED:20170509T061117Z
UID:568-1500076800-1500163199@trailhorsechallenge.ca
SUMMARY:Gymkhana\, Supper and Family Dance
DESCRIPTION:FUNDRAISER GYMKHANA – SUPPER & DANCE TO FOLLOW  \nThis is a family event. Young or old bring your pony\, dancin boots & a smile!\n(this includes a silent auction – all donation prizes are appreciated)
URL:https://trailhorsechallenge.ca/event/gymkhana-trail-ride/
LOCATION:OK Corral\, Canada
CATEGORIES:Competitions,Fundraisers
ATTACH;FMTTYPE=image/jpeg:https://trailhorsechallenge.ca/wp-content/uploads/2017/05/2017-ok-corral-gymhkana-trail-ride.jpg
END:VEVENT
BEGIN:VEVENT
DTSTART;VALUE=DATE:20170707
DTEND;VALUE=DATE:20170710
DTSTAMP:20260423T143649
CREATED:20170505T034837Z
LAST-MODIFIED:20170505T035413Z
UID:477-1499385600-1499644799@trailhorsechallenge.ca
SUMMARY:Third Annual Saskairie Trail Ride/Camping
DESCRIPTION:Come on out and enjoy some beautiful trails and tons of fun. Located north of highway 13 between Carlyle and Arcola! \nCamping\, Meals\, Prizes \nEntertainment and Activities \nFor more information contact: \nDebbie Morrow\n306.453.6245 \nBeth Westfall\n306.575.9334 \n  \n 
URL:https://trailhorsechallenge.ca/event/2017-07-07-saskairie-trail-ride-camping/
LOCATION:Saskatchewan
CATEGORIES:Trail Rides
ATTACH;FMTTYPE=image/jpeg:https://trailhorsechallenge.ca/wp-content/uploads/2017/05/saskairie-01.jpg
END:VEVENT
BEGIN:VEVENT
DTSTART;VALUE=DATE:20170701
DTEND;VALUE=DATE:20170703
DTSTAMP:20260423T143649
CREATED:20170505T195800Z
LAST-MODIFIED:20170505T200205Z
UID:497-1498867200-1499039999@trailhorsechallenge.ca
SUMMARY:Rancher's Trail Ride and Outdoor Trail Challenge
DESCRIPTION:The 2016 Rancher’s Trail Ride and Trail Challenge was a fantastic time to spend time in the saddle; to spend time with great people and great horses AND to do our part in the fight to find a cure for Cancer.  Check out the fun and join us in 2017.
URL:https://trailhorsechallenge.ca/event/ranchers-trail-ride-outdoor-trail-challenge/
LOCATION:Trail’s End Guest Ranch\, Aylesbury\, Canada
CATEGORIES:Competitions,Trail Rides
ATTACH;FMTTYPE=image/jpeg:https://trailhorsechallenge.ca/wp-content/uploads/2017/05/2017-07-01-sask-paint-horse-club-trail-ride-01.jpg
END:VEVENT
BEGIN:VEVENT
DTSTART;VALUE=DATE:20170624
DTEND;VALUE=DATE:20170626
DTSTAMP:20260423T143649
CREATED:20170504T070047Z
LAST-MODIFIED:20170504T070336Z
UID:450-1498262400-1498435199@trailhorsechallenge.ca
SUMMARY:Obstacle Clinic
DESCRIPTION:This is a two-day clinic with the last half of the second day set for a fun challenge. Breanna can help you develop horsemanship skills and have fun by teaching you how to safely get your horse desensitized to the obstacles\, one by one\, and how to eventually put it all together into a timed event! This is so much fun to do and rewarding when your horse “gets it”! Filling fast\, email cphra2012@gmail.com for your spot! Located at the Grasswood Horse Park\, just south of Saskatoon.
URL:https://trailhorsechallenge.ca/event/2017-06-24-obstacle-clinic/
LOCATION:Grasswood Horse Park\, 35364 Range Rd 3052\, Casa Rio\, Saskatchewan\, S7T 1A7\, Canada
CATEGORIES:Clinics
ATTACH;FMTTYPE=image/jpeg:https://trailhorsechallenge.ca/wp-content/uploads/2017/05/2017-06-24-obstacle-clinic.jpg
END:VEVENT
BEGIN:VEVENT
DTSTART;TZID=America/Regina:20170611T100000
DTEND;TZID=America/Regina:20170611T100000
DTSTAMP:20260423T143649
CREATED:20170505T011846Z
LAST-MODIFIED:20170505T011933Z
UID:471-1497175200-1497175200@trailhorsechallenge.ca
SUMMARY:Cowboy Challenge/Bomb Proofing Clinic
DESCRIPTION:We will be doing a Cowboy Challenge/Bomb Proofing Clinic\nWill set up all the obstacles ( cowboy challenge and work through them and work on Horsemanship on proper way to execute a pattern\nWill be very beneficial for those Show Trail classes\nWe will have inhand in the morning for the colts etc. And will do inhand and riding through in the afternoon!\nI will only accept 10 max participants\nThat way I have enough time to work with everyone.\nIf I have lots of interest we will have another clinic.\nCost is $50 per person\nCan bring 2 horses\n* BYOL ( Bring your own Lunch)\nFull amount is needed to hold your spot.\nIt’s non refundable unless your spot is filled or clinic is canceled. \nChqs can be mailed to \nHill Top Arena\nBox 161\nmaple Creek sask\nS0N 1N0\nOr you can etransfer to glstokke@gmail.com
URL:https://trailhorsechallenge.ca/event/cowboy-challengebomb-proofing-clinic/
LOCATION:Hill Top Arena\, Highway 21 South\, Maple Creek\, Saskatchewan\, S0N 1N0\, Canada
CATEGORIES:Clinics
ATTACH;FMTTYPE=image/jpeg:https://trailhorsechallenge.ca/wp-content/uploads/2017/05/bar-4-performance-horses.jpg
END:VEVENT
BEGIN:VEVENT
DTSTART;VALUE=DATE:20170527
DTEND;VALUE=DATE:20170529
DTSTAMP:20260423T143649
CREATED:20170504T045808Z
LAST-MODIFIED:20170504T172616Z
UID:428-1495843200-1496015999@trailhorsechallenge.ca
SUMMARY:Canadian Cowboy Challenge Competition
DESCRIPTION:The ultimate test of horsemanship! \nPrize money and CCC placement points. All levels welcome. Shooting Sprouts\, Youth\, Novice\, Rookie\, Non-Pro\, Open/Pro\, Older-Than-Dirt\, Buckin’ Crazies. \nOnly minutes North of Saskatoon at Canter Bay Equestrian
URL:https://trailhorsechallenge.ca/event/2017-05-27-canadian-cowboy-challenge/
LOCATION:Canter Bay Equestrian\, Saskatoon\, Canada
CATEGORIES:Canadian Cowboy Challenge,Competitions
ATTACH;FMTTYPE=image/jpeg:https://trailhorsechallenge.ca/wp-content/uploads/2017/05/canadian-cowboy-challenge-01.jpg
END:VEVENT
BEGIN:VEVENT
DTSTART;VALUE=DATE:20170526
DTEND;VALUE=DATE:20170529
DTSTAMP:20260423T143649
CREATED:20170509T025914Z
LAST-MODIFIED:20170509T033019Z
UID:549-1495756800-1496015999@trailhorsechallenge.ca
SUMMARY:Wagon Trek and Trail Ride
DESCRIPTION:
URL:https://trailhorsechallenge.ca/event/quappelle-wagon-trek-trail-ride/
LOCATION:Qu’Appelle\, SK\, Saskat\, Canada
CATEGORIES:Fun Days,Trail Rides
ATTACH;FMTTYPE=image/jpeg:https://trailhorsechallenge.ca/wp-content/uploads/2017/05/2017-05-26-quappelle-wagon-trail-ride-01.jpg
END:VEVENT
BEGIN:VEVENT
DTSTART;VALUE=DATE:20170521
DTEND;VALUE=DATE:20170522
DTSTAMP:20260423T143649
CREATED:20170504T063325Z
LAST-MODIFIED:20170504T071652Z
UID:446-1495324800-1495411199@trailhorsechallenge.ca
SUMMARY:Obstacle Challenge Steak Night
DESCRIPTION:ATTN obstacle enthusiasts: Buy your steak night (or vegetarian option) tickets for Sun\, May 21!!! It’s to raise money in order to recoup our ‘challenge fund’ so that we can put on awesome\, smoothly-run challenges with incentives such as added prizes\, a funny announcer and extra ‘bang’!!! Obstacle challenges are the latest hype in the horse world. It’s not about turnout\, expensive show entries\, age\, looks or breeds; it’s about horsemanship\, sportsmanship and an affordable western discipline run under the sanction of a fantastic national association. It’s about getting people of ALL levels and walks of life out enjoying their horses and putting their partnerships to the test in a division(s) suitable to each horse and rider. Please help support making obstacle challenges a ‘thing’ in this province by joining us at Original Joe’s\, the one off 51st street north in Saskatoon. You can arrive at ANY time on May 21 with your ticket(s). A portion of the price of tickets will go to putting on awesome\, FUN challenges. We plan to have a group of people arrive at about 5pm if you would like to visit with us and learn more.
URL:https://trailhorsechallenge.ca/event/obstacle-challenge-steak-night/
LOCATION:Original Joe’s Restaurant & Bar\, 839 51st Street\, Saskatoon\, \, SK S7K 5C6\, S7K 5C6\, Canada
CATEGORIES:Fundraisers
ATTACH;FMTTYPE=image/jpeg:https://trailhorsechallenge.ca/wp-content/uploads/2017/05/obstacle-steak-night-01.jpg
END:VEVENT
BEGIN:VEVENT
DTSTART;VALUE=DATE:20170519
DTEND;VALUE=DATE:20170522
DTSTAMP:20260423T143649
CREATED:20170509T072323Z
LAST-MODIFIED:20170509T074047Z
UID:580-1495152000-1495411199@trailhorsechallenge.ca
SUMMARY:Paul Dufresne Clinic
DESCRIPTION:The Training For Courage Clinic with Paul Dufresne is returning to Saskatoon in May at Willow Ridge Stables.\nFriday evening starts out with an incredible demo (7pm) by Paul as part of his TFC clinic\, to give an opportunity for everyone to see the different stages of training. Last year he demonstrated endotapping on a young horse\, followed by western dressage on his gelding and then did advanced maneuvers and tricks\, as well as had his horses at LIBERTY. Paul also demonstrated some AIRS ABOVE THE GROUND\, as well as effective trailer loading and trailering!\nAudit fee: $10 per day.\nThere are still some spaces for participants of all levels and disciplines. It’s a great opportunity for young horses to build a solid foundation\, some horses/riders attend to build confidence for their horse or themselves\, and some wanting to advance where they left off at from Paul’s previous clinic.Going to be a great weekend!\nAn awesome clinic if you are looking to develop an exceptional relationship with your horse\, want to learn new techniques\, want to engage your horse from the hind end\, need a confidence boost (you and/or horse)\, want to learn to improve quality of movement\, or who want to bombproof and/or /learn a trick or two. Click on the link to learn more\, or contact: equinewellnesseducation@hotmail.com 306-520-2789
URL:https://trailhorsechallenge.ca/event/paul-dufresne-horsemanship-clinic/
LOCATION:Willow Ridge Stables\, Canada
CATEGORIES:Clinics,Demonstrations
ATTACH;FMTTYPE=image/jpeg:https://trailhorsechallenge.ca/wp-content/uploads/2017/05/Paul-Dufresne-Training-For-Courage-Clinic.jpg
END:VEVENT
BEGIN:VEVENT
DTSTART;TZID=America/Regina:20170513T130000
DTEND;TZID=America/Regina:20170513T170000
DTSTAMP:20260423T143649
CREATED:20170504T052900Z
LAST-MODIFIED:20170504T055533Z
UID:434-1494680400-1494694800@trailhorsechallenge.ca
SUMMARY:Obstacle Fun Day
DESCRIPTION:Come play with obstacles! Expect some new obstacle additions for this one!! $20 for CCC members; $25 for non-members. Get CCC memberships at www.canadiancowboychallenge.com if you want the discount. **You MUST keep RSVP updated because we have a limited number of spots so we do not exceed arena capacity. We have previously had people RSVP and not show up even after we turned people away. So please attend if you hit “going” and keep RSVP updated😃
URL:https://trailhorsechallenge.ca/event/2017-05-13-obstacle-fun-day/
LOCATION:Canter Bay Equestrian\, Saskatoon\, Canada
CATEGORIES:Fun Days
ATTACH;FMTTYPE=image/jpeg:https://trailhorsechallenge.ca/wp-content/uploads/2017/05/fund-day-event-01.jpg
END:VEVENT
BEGIN:VEVENT
DTSTART;VALUE=DATE:20170512
DTEND;VALUE=DATE:20170518
DTSTAMP:20260423T143649
CREATED:20170504T060214Z
LAST-MODIFIED:20170505T012755Z
UID:439-1494547200-1495065599@trailhorsechallenge.ca
SUMMARY:Horsemanship Clinic - Jim and Andrea Anderson
DESCRIPTION:Do you want to take your horsemanship higher? Up your game and gain more confidence? Have a better connection with your horse? Understand the why behind what your horse is doing?\nWe can help\, and will be in Saskatoon May 12-17\, 2017. Your goals are within reach! \nOur program is rooted in helping you achieve your goals through Toolbox Exercises- a support system of easy to remember and employ exercises that ensure both you and your horse quickly and easily have those ‘lightbulb moments’ if you’re ever stuck. \nOur Advanced Groundwork Toolbox Exercises are tailored to further develop our communication with horses- once your horse understands your tools (and once you understand when to employ them) You will become a leader they trust\, rely on\, and turn to when they’re in trouble….whether it’s help with understanding a new concept\, a new situation\, or a new task. Furthermore\, and most importantly\, our horses learn to interpret pressure as POSITIVE: simply another tool of communication. \nWe will teach you when\, where\, and how to use our Toolbox Exercises. We help you and your horse connect familiar exercises to new tasks so you can progress confidently and consistently. Above all\, we pride ourselves on the ability to demystify the ever elusive concept of ‘feel.’ We make it easy for you to connect ‘why’ and ‘what’ to HOW and WHEN. \nHelping our horses understand what we want gives them a choice. It sets them up to be active participants in achieving our goals- as a team. It means that we cultivate confident and consistent progress in any facet of horsemanship that we choose to pursue- as partners. And it means that they truly understand how and where to get comfort- from us.
URL:https://trailhorsechallenge.ca/event/anderson-horsemanship-clinic/
LOCATION:Prairieland Park\, 503 Ruth Street West\, Saskatoon\, Saskatchewan\, S7K 4E4\, Canada
CATEGORIES:Clinics
ATTACH;FMTTYPE=image/jpeg:https://trailhorsechallenge.ca/wp-content/uploads/2017/05/jim-andrea-anderson-01.jpg
END:VEVENT
END:VCALENDAR